BEGIN:VCALENDAR
VERSION:2.0
PRODID:-//The Fringe District - ECPv6.10.1.1//NONSGML v1.0//EN
CALSCALE:GREGORIAN
METHOD:PUBLISH
X-WR-CALNAME:The Fringe District
X-ORIGINAL-URL:https://www.thefringedistrict.co.nz
X-WR-CALDESC:Events for The Fringe District
REFRESH-INTERVAL;VALUE=DURATION:PT1H
X-Robots-Tag:noindex
X-PUBLISHED-TTL:PT1H
BEGIN:VTIMEZONE
TZID:Pacific/Auckland
BEGIN:STANDARD
TZOFFSETFROM:+1300
TZOFFSETTO:+1200
TZNAME:NZST
DTSTART:20200404T140000
END:STANDARD
BEGIN:DAYLIGHT
TZOFFSETFROM:+1200
TZOFFSETTO:+1300
TZNAME:NZDT
DTSTART:20200926T140000
END:DAYLIGHT
END:VTIMEZONE
BEGIN:VEVENT
DTSTART;TZID=Pacific/Auckland:20201113T170000
DTEND;TZID=Pacific/Auckland:20201113T210000
DTSTAMP:20260422T141401
CREATED:20200311T052512Z
LAST-MODIFIED:20200728T050315Z
UID:251-1605286800-1605301200@www.thefringedistrict.co.nz
SUMMARY:Friday Flavours Competition
DESCRIPTION:2020 is bringing you more flavour than even! The taste of Kingsland has grown across three united suburbs – Kingsland \, Morningside and Eden Park! Therefore we are giving away $5000 worth of vouchers. Head to our Facebook page to enter our competing!
URL:https://www.thefringedistrict.co.nz/event/friday-flavours/2020-11-13/
CATEGORIES:Competition,food,social,tastings,wine
ATTACH;FMTTYPE=image/jpeg:https://www.thefringedistrict.co.nz/wp-content/uploads/Flavours-600x800-pixels.jpg
END:VEVENT
END:VCALENDAR